BEGIN:VCALENDAR
VERSION:2.0
CALSCALE:GREGORIAN
PRODID:-//Diputació de Barcelona//DibaCMS//EN
BEGIN:VEVENT
UID:4807
DTSTAMP:20260421T192333
DTSTART:20091218T210000
DTEND:20091218T000000
SUMMARY:1r Torropop Nadales Festival
LOCATION:
METHOD:PUBLISH
X-WR-CALNAME:caldesm@caldesdemontbui.cat
X-WR-TIMEZONE:Europe/Madrid
DESCRIPTION:
URI:https://www.caldesdemontbui.cat/actualitat/agenda/1r-torropop-nadales-festival.html
CLASS:PUBLIC
END:VEVENT
END:VCALENDAR
