BEGIN:VCALENDAR
VERSION:2.0
CALSCALE:GREGORIAN
PRODID:-//Diputació de Barcelona//DibaCMS//EN
BEGIN:VEVENT
UID:4806
DTSTAMP:20260421T162038
DTSTART:20091217T200000
DTEND:20091217T000000
SUMMARY:Xerrada "Els canvis: la sexualitat i l'afectivitat a l'adolescència"
LOCATION:
METHOD:PUBLISH
X-WR-CALNAME:caldesm@caldesdemontbui.cat
X-WR-TIMEZONE:Europe/Madrid
DESCRIPTION:
URI:https://www.caldesdemontbui.cat/actualitat/agenda/xerrada-els-canvis-la-sexualitat-i-lafectivitat-a-ladolescencia.html
CLASS:PUBLIC
END:VEVENT
END:VCALENDAR
