BEGIN:VCALENDAR
VERSION:2.0
CALSCALE:GREGORIAN
PRODID:-//Diputació de Barcelona//DibaCMS//EN
BEGIN:VEVENT
UID:4805
DTSTAMP:20260421T180859
DTSTART:20091217T190000
DTEND:20091217T000000
SUMMARY:Festa de Nadal, cuinant per les festes nadalenques II
LOCATION:
METHOD:PUBLISH
X-WR-CALNAME:caldesm@caldesdemontbui.cat
X-WR-TIMEZONE:Europe/Madrid
DESCRIPTION:
URI:https://www.caldesdemontbui.cat/actualitat/agenda/festa-de-nadal-cuinant-per-les-festes-nadalenques-ii.html
CLASS:PUBLIC
END:VEVENT
END:VCALENDAR
