BEGIN:VCALENDAR
VERSION:2.0
CALSCALE:GREGORIAN
PRODID:-//Diputació de Barcelona//DibaCMS//EN
BEGIN:VEVENT
UID:4804
DTSTAMP:20260421T194813
DTSTART:20091216T160000
DTEND:20091216T000000
SUMMARY:Teatre: "La senyora Florentina i el seu amor Homer", de Mercè Rodoreda
LOCATION:
METHOD:PUBLISH
X-WR-CALNAME:caldesm@caldesdemontbui.cat
X-WR-TIMEZONE:Europe/Madrid
DESCRIPTION:
URI:https://www.caldesdemontbui.cat/actualitat/agenda/teatre-la-senyora-florentina-i-el-seu-amor-homer-de-merce-rodoreda.html
CLASS:PUBLIC
END:VEVENT
END:VCALENDAR
