BEGIN:VCALENDAR
VERSION:2.0
CALSCALE:GREGORIAN
PRODID:-//Diputació de Barcelona//DibaCMS//EN
BEGIN:VEVENT
UID:4800
DTSTAMP:20260421T175331
DTSTART:20091213T183000
DTEND:20091213T000000
SUMMARY:Cinefòrum "Passió per la Cuina"
LOCATION:
METHOD:PUBLISH
X-WR-CALNAME:caldesm@caldesdemontbui.cat
X-WR-TIMEZONE:Europe/Madrid
DESCRIPTION:
URI:https://www.caldesdemontbui.cat/actualitat/agenda/cineforum-passio-per-la-cuina.html
CLASS:PUBLIC
END:VEVENT
END:VCALENDAR
