BEGIN:VCALENDAR
VERSION:2.0
CALSCALE:GREGORIAN
PRODID:-//Diputació de Barcelona//DibaCMS//EN
BEGIN:VEVENT
UID:4799
DTSTAMP:20260421T161915
DTSTART:20091213T180000
DTEND:20091213T000000
SUMMARY:Inauguració de la VI exposició de Diorames de pessebres
LOCATION:
METHOD:PUBLISH
X-WR-CALNAME:caldesm@caldesdemontbui.cat
X-WR-TIMEZONE:Europe/Madrid
DESCRIPTION:
URI:https://www.caldesdemontbui.cat/actualitat/agenda/inauguracio-de-la-vi-exposicio-de-diorames-de-pessebres.html
CLASS:PUBLIC
END:VEVENT
END:VCALENDAR
