BEGIN:VCALENDAR
VERSION:2.0
CALSCALE:GREGORIAN
PRODID:-//Diputació de Barcelona//DibaCMS//EN
BEGIN:VEVENT
UID:4798
DTSTAMP:20260421T175900
DTSTART:20091212T220000
DTEND:20091212T000000
SUMMARY:Nit de ball de saló, a càrrec d'Esquitx
LOCATION:
METHOD:PUBLISH
X-WR-CALNAME:caldesm@caldesdemontbui.cat
X-WR-TIMEZONE:Europe/Madrid
DESCRIPTION:
URI:https://www.caldesdemontbui.cat/actualitat/agenda/nit-de-ball-de-salo-a-carrec-desquitx.html
CLASS:PUBLIC
END:VEVENT
END:VCALENDAR
