BEGIN:VCALENDAR
VERSION:2.0
CALSCALE:GREGORIAN
PRODID:-//Diputació de Barcelona//DibaCMS//EN
BEGIN:VEVENT
UID:4797
DTSTAMP:20260421T180424
DTSTART:20091212T180000
DTEND:20091212T000000
SUMMARY:Vine al Petit Casino a veure la Carta als Reis
LOCATION:
METHOD:PUBLISH
X-WR-CALNAME:caldesm@caldesdemontbui.cat
X-WR-TIMEZONE:Europe/Madrid
DESCRIPTION:
URI:https://www.caldesdemontbui.cat/actualitat/agenda/vine-al-petit-casino-a-veure-la-carta-als-reis.html
CLASS:PUBLIC
END:VEVENT
END:VCALENDAR
