BEGIN:VCALENDAR
VERSION:2.0
CALSCALE:GREGORIAN
PRODID:-//Diputació de Barcelona//DibaCMS//EN
BEGIN:VEVENT
UID:4796
DTSTAMP:20260421T224112
DTSTART:20091211T200000
DTEND:20091211T000000
SUMMARY:Inauguració XIX Mercat d'Art
LOCATION:
METHOD:PUBLISH
X-WR-CALNAME:caldesm@caldesdemontbui.cat
X-WR-TIMEZONE:Europe/Madrid
DESCRIPTION:
URI:https://www.caldesdemontbui.cat/actualitat/agenda/inauguracio-xix-mercat-dart.html
CLASS:PUBLIC
END:VEVENT
END:VCALENDAR
