BEGIN:VCALENDAR
VERSION:2.0
CALSCALE:GREGORIAN
PRODID:-//Diputació de Barcelona//DibaCMS//EN
BEGIN:VEVENT
UID:4793
DTSTAMP:20260422T052026
DTSTART:20091211T000000
DTEND:20091211T000000
SUMMARY:Curset bàsic d'orientació per aprendre a moure's per la muntanya
LOCATION:
METHOD:PUBLISH
X-WR-CALNAME:caldesm@caldesdemontbui.cat
X-WR-TIMEZONE:Europe/Madrid
DESCRIPTION:
URI:https://www.caldesdemontbui.cat/actualitat/agenda/curset-basic-dorientacio-per-aprendre-a-moures-per-la-muntanya.html
CLASS:PUBLIC
END:VEVENT
END:VCALENDAR
