BEGIN:VCALENDAR
VERSION:2.0
CALSCALE:GREGORIAN
PRODID:-//Diputació de Barcelona//DibaCMS//EN
BEGIN:VEVENT
UID:4792
DTSTAMP:20260421T160900
DTSTART:20091210T200000
DTEND:20091210T000000
SUMMARY:Conferència "L'educació: un dret i un deure"
LOCATION:
METHOD:PUBLISH
X-WR-CALNAME:caldesm@caldesdemontbui.cat
X-WR-TIMEZONE:Europe/Madrid
DESCRIPTION:
URI:https://www.caldesdemontbui.cat/actualitat/agenda/conferencia-leducacio-un-dret-i-un-deure.html
CLASS:PUBLIC
END:VEVENT
END:VCALENDAR
