BEGIN:VCALENDAR
VERSION:2.0
CALSCALE:GREGORIAN
PRODID:-//Diputació de Barcelona//DibaCMS//EN
BEGIN:VEVENT
UID:4790
DTSTAMP:20260421T124032
DTSTART:20091209T090000
DTEND:20091209T000000
SUMMARY:Caminada fins Els Saulons i Can Cararac
LOCATION:
METHOD:PUBLISH
X-WR-CALNAME:caldesm@caldesdemontbui.cat
X-WR-TIMEZONE:Europe/Madrid
DESCRIPTION:
URI:https://www.caldesdemontbui.cat/actualitat/agenda/caminada-fins-els-saulons-i-can-cararac.html
CLASS:PUBLIC
END:VEVENT
END:VCALENDAR
