BEGIN:VCALENDAR
VERSION:2.0
CALSCALE:GREGORIAN
PRODID:-//Diputació de Barcelona//DibaCMS//EN
BEGIN:VEVENT
UID:4788
DTSTAMP:20260421T110716
DTSTART:20091209T000000
DTEND:20091218T000000
SUMMARY:Concurs de dibuixos sobre el pessebre vivent
LOCATION:
METHOD:PUBLISH
X-WR-CALNAME:caldesm@caldesdemontbui.cat
X-WR-TIMEZONE:Europe/Madrid
DESCRIPTION:
URI:https://www.caldesdemontbui.cat/actualitat/agenda/concurs-de-dibuixos-sobre-el-pessebre-vivent.html
CLASS:PUBLIC
END:VEVENT
END:VCALENDAR
