BEGIN:VCALENDAR
VERSION:2.0
CALSCALE:GREGORIAN
PRODID:-//Diputació de Barcelona//DibaCMS//EN
BEGIN:VEVENT
UID:4787
DTSTAMP:20260421T134347
DTSTART:20091206T190000
DTEND:20091206T000000
SUMMARY:Sorteig dels obsequis de Nadal
LOCATION:
METHOD:PUBLISH
X-WR-CALNAME:caldesm@caldesdemontbui.cat
X-WR-TIMEZONE:Europe/Madrid
DESCRIPTION:
URI:https://www.caldesdemontbui.cat/actualitat/agenda/sorteig-dels-obsequis-de-nadal.html
CLASS:PUBLIC
END:VEVENT
END:VCALENDAR
