BEGIN:VCALENDAR
VERSION:2.0
CALSCALE:GREGORIAN
PRODID:-//Diputació de Barcelona//DibaCMS//EN
BEGIN:VEVENT
UID:4785
DTSTAMP:20260421T210216
DTSTART:20091206T173000
DTEND:20091206T000000
SUMMARY:Brou de Nadal per a tothom
LOCATION:
METHOD:PUBLISH
X-WR-CALNAME:caldesm@caldesdemontbui.cat
X-WR-TIMEZONE:Europe/Madrid
DESCRIPTION:
URI:https://www.caldesdemontbui.cat/actualitat/agenda/brou-de-nadal-per-a-tothom.html
CLASS:PUBLIC
END:VEVENT
END:VCALENDAR
