BEGIN:VCALENDAR
VERSION:2.0
CALSCALE:GREGORIAN
PRODID:-//Diputació de Barcelona//DibaCMS//EN
BEGIN:VEVENT
UID:4784
DTSTAMP:20260421T151204
DTSTART:20091206T120000
DTEND:20091206T000000
SUMMARY:Ballada de Sardanes
LOCATION:
METHOD:PUBLISH
X-WR-CALNAME:caldesm@caldesdemontbui.cat
X-WR-TIMEZONE:Europe/Madrid
DESCRIPTION:
URI:https://www.caldesdemontbui.cat/actualitat/agenda/ballada-de-sardanes.html
CLASS:PUBLIC
END:VEVENT
END:VCALENDAR
