BEGIN:VCALENDAR
VERSION:2.0
CALSCALE:GREGORIAN
PRODID:-//Diputació de Barcelona//DibaCMS//EN
BEGIN:VEVENT
UID:4782
DTSTAMP:20260421T125500
DTSTART:20091206T100000
DTEND:20091206T000000
SUMMARY:Taller familiar "Tria el teu taller!: molinets de paper i braçalets de boletes"
LOCATION:
METHOD:PUBLISH
X-WR-CALNAME:caldesm@caldesdemontbui.cat
X-WR-TIMEZONE:Europe/Madrid
DESCRIPTION:
URI:https://www.caldesdemontbui.cat/actualitat/agenda/taller-familiar-tria-el-teu-taller-molinets-de-paper-i-bracalets-de-boletes.html
CLASS:PUBLIC
END:VEVENT
END:VCALENDAR
