BEGIN:VCALENDAR
VERSION:2.0
CALSCALE:GREGORIAN
PRODID:-//Diputació de Barcelona//DibaCMS//EN
BEGIN:VEVENT
UID:4780
DTSTAMP:20260421T110442
DTSTART:20091206T000000
DTEND:20091206T000000
SUMMARY:Caga Tió, sorteig d'una panera de Nadal i brou per a tothom
LOCATION:
METHOD:PUBLISH
X-WR-CALNAME:caldesm@caldesdemontbui.cat
X-WR-TIMEZONE:Europe/Madrid
DESCRIPTION:
URI:https://www.caldesdemontbui.cat/actualitat/agenda/caga-tio-sorteig-duna-panera-de-nadal-i-brou-per-a-tothom.html
CLASS:PUBLIC
END:VEVENT
END:VCALENDAR
