BEGIN:VCALENDAR
VERSION:2.0
CALSCALE:GREGORIAN
PRODID:-//Diputació de Barcelona//DibaCMS//EN
BEGIN:VEVENT
UID:4779
DTSTAMP:20260421T233411
DTSTART:20091205T190000
DTEND:20091205T000000
SUMMARY:Arbre Solidari
LOCATION:
METHOD:PUBLISH
X-WR-CALNAME:caldesm@caldesdemontbui.cat
X-WR-TIMEZONE:Europe/Madrid
DESCRIPTION:
URI:https://www.caldesdemontbui.cat/actualitat/agenda/arbre-solidari.html
CLASS:PUBLIC
END:VEVENT
END:VCALENDAR
