BEGIN:VCALENDAR
VERSION:2.0
CALSCALE:GREGORIAN
PRODID:-//Diputació de Barcelona//DibaCMS//EN
BEGIN:VEVENT
UID:4778
DTSTAMP:20260421T105018
DTSTART:20091205T173000
DTEND:20091205T000000
SUMMARY:Espectacle infantil "Ralet, Ralet"
LOCATION:
METHOD:PUBLISH
X-WR-CALNAME:caldesm@caldesdemontbui.cat
X-WR-TIMEZONE:Europe/Madrid
DESCRIPTION:
URI:https://www.caldesdemontbui.cat/actualitat/agenda/espectacle-infantil-ralet-ralet.html
CLASS:PUBLIC
END:VEVENT
END:VCALENDAR
