BEGIN:VCALENDAR
VERSION:2.0
CALSCALE:GREGORIAN
PRODID:-//Diputació de Barcelona//DibaCMS//EN
BEGIN:VEVENT
UID:4773
DTSTAMP:20260421T134233
DTSTART:20091205T000000
DTEND:20100106T000000
SUMMARY:Enllumenat de Nadal als carrers de Caldes
LOCATION:
METHOD:PUBLISH
X-WR-CALNAME:caldesm@caldesdemontbui.cat
X-WR-TIMEZONE:Europe/Madrid
DESCRIPTION:
URI:https://www.caldesdemontbui.cat/actualitat/agenda/enllumenat-de-nadal-als-carrers-de-caldes.html
CLASS:PUBLIC
END:VEVENT
END:VCALENDAR
