BEGIN:VCALENDAR
VERSION:2.0
CALSCALE:GREGORIAN
PRODID:-//Diputació de Barcelona//DibaCMS//EN
BEGIN:VEVENT
UID:4772
DTSTAMP:20260421T122908
DTSTART:20091203T173000
DTEND:20091203T000000
SUMMARY:Els canvis: la sexualitat i l'afectivitat a la infància
LOCATION:
METHOD:PUBLISH
X-WR-CALNAME:caldesm@caldesdemontbui.cat
X-WR-TIMEZONE:Europe/Madrid
DESCRIPTION:
URI:https://www.caldesdemontbui.cat/actualitat/agenda/els-canvis-la-sexualitat-i-lafectivitat-a-la-infancia.html
CLASS:PUBLIC
END:VEVENT
END:VCALENDAR
