BEGIN:VCALENDAR
VERSION:2.0
CALSCALE:GREGORIAN
PRODID:-//Diputació de Barcelona//DibaCMS//EN
BEGIN:VEVENT
UID:4771
DTSTAMP:20260421T075213
DTSTART:20091202T160000
DTEND:20091202T000000
SUMMARY:Papallones, esclat de colors, per Joan Condal
LOCATION:
METHOD:PUBLISH
X-WR-CALNAME:caldesm@caldesdemontbui.cat
X-WR-TIMEZONE:Europe/Madrid
DESCRIPTION:
URI:https://www.caldesdemontbui.cat/actualitat/agenda/papallones-esclat-de-colors-per-joan-condal.html
CLASS:PUBLIC
END:VEVENT
END:VCALENDAR
