BEGIN:VCALENDAR
VERSION:2.0
CALSCALE:GREGORIAN
PRODID:-//Diputació de Barcelona//DibaCMS//EN
BEGIN:VEVENT
UID:4769
DTSTAMP:20260421T104949
DTSTART:20091201T190000
DTEND:20091201T000000
SUMMARY:Xerrada adreçada a empresaris: "Buscar oportunitats en temps de crisi"
LOCATION:
METHOD:PUBLISH
X-WR-CALNAME:caldesm@caldesdemontbui.cat
X-WR-TIMEZONE:Europe/Madrid
DESCRIPTION:
URI:https://www.caldesdemontbui.cat/actualitat/agenda/xerrada-adrecada-a-empresaris-buscar-oportunitats-en-temps-de-crisi.html
CLASS:PUBLIC
END:VEVENT
END:VCALENDAR
