BEGIN:VCALENDAR
VERSION:2.0
CALSCALE:GREGORIAN
PRODID:-//Diputació de Barcelona//DibaCMS//EN
BEGIN:VEVENT
UID:4768
DTSTAMP:20260421T124143
DTSTART:20091201T183000
DTEND:20091201T000000
SUMMARY:Xerrada per a joves: Treballa al Nadal
LOCATION:
METHOD:PUBLISH
X-WR-CALNAME:caldesm@caldesdemontbui.cat
X-WR-TIMEZONE:Europe/Madrid
DESCRIPTION:
URI:https://www.caldesdemontbui.cat/actualitat/agenda/xerrada-per-a-joves-treballa-al-nadal.html
CLASS:PUBLIC
END:VEVENT
END:VCALENDAR
