BEGIN:VCALENDAR
VERSION:2.0
CALSCALE:GREGORIAN
PRODID:-//Diputació de Barcelona//DibaCMS//EN
BEGIN:VEVENT
UID:4767
DTSTAMP:20260420T225001
DTSTART:20091201T000000
DTEND:20100107T000000
SUMMARY:Demana un llibre als Reis!!
LOCATION:
METHOD:PUBLISH
X-WR-CALNAME:caldesm@caldesdemontbui.cat
X-WR-TIMEZONE:Europe/Madrid
DESCRIPTION:
URI:https://www.caldesdemontbui.cat/actualitat/agenda/demana-un-llibre-als-reis.html
CLASS:PUBLIC
END:VEVENT
END:VCALENDAR
