BEGIN:VCALENDAR
VERSION:2.0
CALSCALE:GREGORIAN
PRODID:-//Diputació de Barcelona//DibaCMS//EN
BEGIN:VEVENT
UID:4765
DTSTAMP:20260421T164731
DTSTART:20091130T190000
DTEND:20091130T000000
SUMMARY:"La solitud dels nombres primers" al Club de Lectura de la Biblioteca
LOCATION:
METHOD:PUBLISH
X-WR-CALNAME:caldesm@caldesdemontbui.cat
X-WR-TIMEZONE:Europe/Madrid
DESCRIPTION:
URI:https://www.caldesdemontbui.cat/actualitat/agenda/la-solitud-dels-nombres-primers-al-club-de-lectura-de-la-biblioteca.html
CLASS:PUBLIC
END:VEVENT
END:VCALENDAR
