BEGIN:VCALENDAR
VERSION:2.0
CALSCALE:GREGORIAN
PRODID:-//Diputació de Barcelona//DibaCMS//EN
BEGIN:VEVENT
UID:4763
DTSTAMP:20260421T140151
DTSTART:20091129T100000
DTEND:20091129T000000
SUMMARY:17a Cursa Muntanya del Farell 
LOCATION:
METHOD:PUBLISH
X-WR-CALNAME:caldesm@caldesdemontbui.cat
X-WR-TIMEZONE:Europe/Madrid
DESCRIPTION:
URI:https://www.caldesdemontbui.cat/actualitat/agenda/17a-cursa-muntanya-del-farell-.html
CLASS:PUBLIC
END:VEVENT
END:VCALENDAR
