BEGIN:VCALENDAR
VERSION:2.0
CALSCALE:GREGORIAN
PRODID:-//Diputació de Barcelona//DibaCMS//EN
BEGIN:VEVENT
UID:4762
DTSTAMP:20260421T092303
DTSTART:20091129T000000
DTEND:20091129T000000
SUMMARY:14ª Estapa del camí de ronda entre Vallgorguina i Coll de Can Bordoi (Llinars) 
LOCATION:
METHOD:PUBLISH
X-WR-CALNAME:caldesm@caldesdemontbui.cat
X-WR-TIMEZONE:Europe/Madrid
DESCRIPTION:
URI:https://www.caldesdemontbui.cat/actualitat/agenda/14a-estapa-del-cami-de-ronda-entre-vallgorguina-i-coll-de-can-bordoi-llinars-.html
CLASS:PUBLIC
END:VEVENT
END:VCALENDAR
