BEGIN:VCALENDAR
VERSION:2.0
CALSCALE:GREGORIAN
PRODID:-//Diputació de Barcelona//DibaCMS//EN
BEGIN:VEVENT
UID:4761
DTSTAMP:20260421T154905
DTSTART:20091127T210000
DTEND:20091127T000000
SUMMARY:Sopar Ball
LOCATION:
METHOD:PUBLISH
X-WR-CALNAME:caldesm@caldesdemontbui.cat
X-WR-TIMEZONE:Europe/Madrid
DESCRIPTION:
URI:https://www.caldesdemontbui.cat/actualitat/agenda/sopar-ball.html
CLASS:PUBLIC
END:VEVENT
END:VCALENDAR
