BEGIN:VCALENDAR
VERSION:2.0
CALSCALE:GREGORIAN
PRODID:-//Diputació de Barcelona//DibaCMS//EN
BEGIN:VEVENT
UID:4760
DTSTAMP:20260421T140116
DTSTART:20091127T180000
DTEND:20091127T000000
SUMMARY:De pasta de Moniato! a la Biblioteca de Caldes
LOCATION:
METHOD:PUBLISH
X-WR-CALNAME:caldesm@caldesdemontbui.cat
X-WR-TIMEZONE:Europe/Madrid
DESCRIPTION:
URI:https://www.caldesdemontbui.cat/actualitat/agenda/de-pasta-de-moniato-a-la-biblioteca-de-caldes.html
CLASS:PUBLIC
END:VEVENT
END:VCALENDAR
