BEGIN:VCALENDAR
VERSION:2.0
CALSCALE:GREGORIAN
PRODID:-//Diputació de Barcelona//DibaCMS//EN
BEGIN:VEVENT
UID:4759
DTSTAMP:20260422T020218
DTSTART:20091127T100000
DTEND:20091127T000000
SUMMARY:Reunió de la Coordinadora
LOCATION:
METHOD:PUBLISH
X-WR-CALNAME:caldesm@caldesdemontbui.cat
X-WR-TIMEZONE:Europe/Madrid
DESCRIPTION:
URI:https://www.caldesdemontbui.cat/actualitat/agenda/reunio-de-la-coordinadora.html
CLASS:PUBLIC
END:VEVENT
END:VCALENDAR
