BEGIN:VCALENDAR
VERSION:2.0
CALSCALE:GREGORIAN
PRODID:-//Diputació de Barcelona//DibaCMS//EN
BEGIN:VEVENT
UID:4757
DTSTAMP:20260421T142419
DTSTART:20091125T180000
DTEND:20091125T000000
SUMMARY:Concert "El rostre pàl·lid de Buster Keaton" per Santa Cecília
LOCATION:
METHOD:PUBLISH
X-WR-CALNAME:caldesm@caldesdemontbui.cat
X-WR-TIMEZONE:Europe/Madrid
DESCRIPTION:
URI:https://www.caldesdemontbui.cat/actualitat/agenda/concert-el-rostre-pallid-de-buster-keaton-per-santa-cecilia.html
CLASS:PUBLIC
END:VEVENT
END:VCALENDAR
