BEGIN:VCALENDAR
VERSION:2.0
CALSCALE:GREGORIAN
PRODID:-//Diputació de Barcelona//DibaCMS//EN
BEGIN:VEVENT
UID:4756
DTSTAMP:20260421T140212
DTSTART:20091125T160000
DTEND:20091125T000000
SUMMARY:Xerrada contra la violència de gènere
LOCATION:
METHOD:PUBLISH
X-WR-CALNAME:caldesm@caldesdemontbui.cat
X-WR-TIMEZONE:Europe/Madrid
DESCRIPTION:
URI:https://www.caldesdemontbui.cat/actualitat/agenda/xerrada-contra-la-violencia-de-genere.html
CLASS:PUBLIC
END:VEVENT
END:VCALENDAR
