BEGIN:VCALENDAR
VERSION:2.0
CALSCALE:GREGORIAN
PRODID:-//Diputació de Barcelona//DibaCMS//EN
BEGIN:VEVENT
UID:4755
DTSTAMP:20260421T110550
DTSTART:20091125T160000
DTEND:20091125T000000
SUMMARY:Dia contra la violencia de gènere per el Centre Psicològic Caldes
LOCATION:
METHOD:PUBLISH
X-WR-CALNAME:caldesm@caldesdemontbui.cat
X-WR-TIMEZONE:Europe/Madrid
DESCRIPTION:
URI:https://www.caldesdemontbui.cat/actualitat/agenda/dia-contra-la-violencia-de-genere-per-el-centre-psicologic-caldes.html
CLASS:PUBLIC
END:VEVENT
END:VCALENDAR
