BEGIN:VCALENDAR
VERSION:2.0
CALSCALE:GREGORIAN
PRODID:-//Diputació de Barcelona//DibaCMS//EN
BEGIN:VEVENT
UID:4754
DTSTAMP:20260421T142754
DTSTART:20091125T090000
DTEND:20091125T000000
SUMMARY:Caminada fins els Negres i esmorzar al restaurant La Borda
LOCATION:
METHOD:PUBLISH
X-WR-CALNAME:caldesm@caldesdemontbui.cat
X-WR-TIMEZONE:Europe/Madrid
DESCRIPTION:
URI:https://www.caldesdemontbui.cat/actualitat/agenda/caminada-fins-els-negres-i-esmorzar-al-restaurant-la-borda.html
CLASS:PUBLIC
END:VEVENT
END:VCALENDAR
