BEGIN:VCALENDAR
VERSION:2.0
CALSCALE:GREGORIAN
PRODID:-//Diputació de Barcelona//DibaCMS//EN
BEGIN:VEVENT
UID:4751
DTSTAMP:20260421T142915
DTSTART:20091119T210000
DTEND:20091119T000000
SUMMARY:La 2a edició del programa "Créixer amb tu" celebra la seva última xerrada
LOCATION:
METHOD:PUBLISH
X-WR-CALNAME:caldesm@caldesdemontbui.cat
X-WR-TIMEZONE:Europe/Madrid
DESCRIPTION:
URI:https://www.caldesdemontbui.cat/actualitat/agenda/la-2a-edicio-del-programa-creixer-amb-tu-celebra-la-seva-ltima-xerrada.html
CLASS:PUBLIC
END:VEVENT
END:VCALENDAR
