BEGIN:VCALENDAR
VERSION:2.0
CALSCALE:GREGORIAN
PRODID:-//Diputació de Barcelona//DibaCMS//EN
BEGIN:VEVENT
UID:4749
DTSTAMP:20260421T154833
DTSTART:20091118T170000
DTEND:20091118T000000
SUMMARY:Concert de Santa Cecília
LOCATION:
METHOD:PUBLISH
X-WR-CALNAME:caldesm@caldesdemontbui.cat
X-WR-TIMEZONE:Europe/Madrid
DESCRIPTION:
URI:https://www.caldesdemontbui.cat/actualitat/agenda/concert-de-santa-cecilia.html
CLASS:PUBLIC
END:VEVENT
END:VCALENDAR
