BEGIN:VCALENDAR
VERSION:2.0
CALSCALE:GREGORIAN
PRODID:-//Diputació de Barcelona//DibaCMS//EN
BEGIN:VEVENT
UID:4744
DTSTAMP:20260422T011948
DTSTART:20091118T000000
DTEND:20091118T000000
SUMMARY:Sortida cultural al Museo PICASSO
LOCATION:
METHOD:PUBLISH
X-WR-CALNAME:caldesm@caldesdemontbui.cat
X-WR-TIMEZONE:Europe/Madrid
DESCRIPTION:
URI:https://www.caldesdemontbui.cat/actualitat/agenda/sortida-cultural-al-museo-picasso.html
CLASS:PUBLIC
END:VEVENT
END:VCALENDAR
