BEGIN:VCALENDAR
VERSION:2.0
CALSCALE:GREGORIAN
PRODID:-//Diputació de Barcelona//DibaCMS//EN
BEGIN:VEVENT
UID:4743
DTSTAMP:20260421T111623
DTSTART:20091115T080000
DTEND:20091115T000000
SUMMARY:1ª Tirada Lliga Catalana de Sala 
LOCATION:
METHOD:PUBLISH
X-WR-CALNAME:caldesm@caldesdemontbui.cat
X-WR-TIMEZONE:Europe/Madrid
DESCRIPTION:
URI:https://www.caldesdemontbui.cat/actualitat/agenda/1a-tirada-lliga-catalana-de-sala-.html
CLASS:PUBLIC
END:VEVENT
END:VCALENDAR
