BEGIN:VCALENDAR
VERSION:2.0
CALSCALE:GREGORIAN
PRODID:-//Diputació de Barcelona//DibaCMS//EN
BEGIN:VEVENT
UID:4741
DTSTAMP:20260421T160824
DTSTART:20091113T203000
DTEND:20091113T000000
SUMMARY:Recital de música en directe "Babel"
LOCATION:
METHOD:PUBLISH
X-WR-CALNAME:caldesm@caldesdemontbui.cat
X-WR-TIMEZONE:Europe/Madrid
DESCRIPTION:
URI:https://www.caldesdemontbui.cat/actualitat/agenda/recital-de-msica-en-directe-babel.html
CLASS:PUBLIC
END:VEVENT
END:VCALENDAR
