BEGIN:VCALENDAR
VERSION:2.0
CALSCALE:GREGORIAN
PRODID:-//Diputació de Barcelona//DibaCMS//EN
BEGIN:VEVENT
UID:4740
DTSTAMP:20260421T074403
DTSTART:20091113T173000
DTEND:20091113T000000
SUMMARY:Tallers infantils de xapes i globoflèxia
LOCATION:
METHOD:PUBLISH
X-WR-CALNAME:caldesm@caldesdemontbui.cat
X-WR-TIMEZONE:Europe/Madrid
DESCRIPTION:
URI:https://www.caldesdemontbui.cat/actualitat/agenda/tallers-infantils-de-xapes-i-globoflexia.html
CLASS:PUBLIC
END:VEVENT
END:VCALENDAR
