BEGIN:VCALENDAR
VERSION:2.0
CALSCALE:GREGORIAN
PRODID:-//Diputació de Barcelona//DibaCMS//EN
BEGIN:VEVENT
UID:4739
DTSTAMP:20260421T125835
DTSTART:20091113T000000
DTEND:20091207T000000
SUMMARY:Exposició CORREFOC 2009 
LOCATION:
METHOD:PUBLISH
X-WR-CALNAME:caldesm@caldesdemontbui.cat
X-WR-TIMEZONE:Europe/Madrid
DESCRIPTION:
URI:https://www.caldesdemontbui.cat/actualitat/agenda/exposicio-correfoc-2009-.html
CLASS:PUBLIC
END:VEVENT
END:VCALENDAR
