BEGIN:VCALENDAR
VERSION:2.0
CALSCALE:GREGORIAN
PRODID:-//Diputació de Barcelona//DibaCMS//EN
BEGIN:VEVENT
UID:4733
DTSTAMP:20260422T025109
DTSTART:20091111T090000
DTEND:20091111T000000
SUMMARY:Caminada fins la Torre Roja
LOCATION:
METHOD:PUBLISH
X-WR-CALNAME:caldesm@caldesdemontbui.cat
X-WR-TIMEZONE:Europe/Madrid
DESCRIPTION:
URI:https://www.caldesdemontbui.cat/actualitat/agenda/caminada-fins-la-torre-roja.html
CLASS:PUBLIC
END:VEVENT
END:VCALENDAR
