BEGIN:VCALENDAR
VERSION:2.0
CALSCALE:GREGORIAN
PRODID:-//Diputació de Barcelona//DibaCMS//EN
BEGIN:VEVENT
UID:4732
DTSTAMP:20260421T092226
DTSTART:20091108T000000
DTEND:20091108T000000
SUMMARY:Nova etapa del Camí de Ronda entre Tordera i Vallgorguina
LOCATION:
METHOD:PUBLISH
X-WR-CALNAME:caldesm@caldesdemontbui.cat
X-WR-TIMEZONE:Europe/Madrid
DESCRIPTION:
URI:https://www.caldesdemontbui.cat/actualitat/agenda/nova-etapa-del-cami-de-ronda-entre-tordera-i-vallgorguina.html
CLASS:PUBLIC
END:VEVENT
END:VCALENDAR
