BEGIN:VCALENDAR
VERSION:2.0
CALSCALE:GREGORIAN
PRODID:-//Diputació de Barcelona//DibaCMS//EN
BEGIN:VEVENT
UID:4731
DTSTAMP:20260421T122316
DTSTART:20091105T210000
DTEND:20091105T000000
SUMMARY:La cura, el desenvolupament i l'educació de les criatures
LOCATION:
METHOD:PUBLISH
X-WR-CALNAME:caldesm@caldesdemontbui.cat
X-WR-TIMEZONE:Europe/Madrid
DESCRIPTION:
URI:https://www.caldesdemontbui.cat/actualitat/agenda/la-cura-el-desenvolupament-i-leducacio-de-les-criatures.html
CLASS:PUBLIC
END:VEVENT
END:VCALENDAR
