BEGIN:VCALENDAR
VERSION:2.0
CALSCALE:GREGORIAN
PRODID:-//Diputació de Barcelona//DibaCMS//EN
BEGIN:VEVENT
UID:4730
DTSTAMP:20260421T075027
DTSTART:20091104T200000
DTEND:20091104T000000
SUMMARY:Xerrada per a pares i mares amb fills adolescents
LOCATION:
METHOD:PUBLISH
X-WR-CALNAME:caldesm@caldesdemontbui.cat
X-WR-TIMEZONE:Europe/Madrid
DESCRIPTION:
URI:https://www.caldesdemontbui.cat/actualitat/agenda/xerrada-per-a-pares-i-mares-amb-fills-adolescents.html
CLASS:PUBLIC
END:VEVENT
END:VCALENDAR
