BEGIN:VCALENDAR
VERSION:2.0
CALSCALE:GREGORIAN
PRODID:-//Diputació de Barcelona//DibaCMS//EN
BEGIN:VEVENT
UID:4729
DTSTAMP:20260421T124447
DTSTART:20091104T160000
DTEND:20091104T000000
SUMMARY:Temporada de bolets, per María Garcia
LOCATION:
METHOD:PUBLISH
X-WR-CALNAME:caldesm@caldesdemontbui.cat
X-WR-TIMEZONE:Europe/Madrid
DESCRIPTION:
URI:https://www.caldesdemontbui.cat/actualitat/agenda/temporada-de-bolets-per-maria-garcia.html
CLASS:PUBLIC
END:VEVENT
END:VCALENDAR
