BEGIN:VCALENDAR
VERSION:2.0
CALSCALE:GREGORIAN
PRODID:-//Diputació de Barcelona//DibaCMS//EN
BEGIN:VEVENT
UID:4726
DTSTAMP:20260421T062959
DTSTART:20091031T170000
DTEND:20091031T000000
SUMMARY:Festa de Halloween i Castanyada a Can Regasol
LOCATION:
METHOD:PUBLISH
X-WR-CALNAME:caldesm@caldesdemontbui.cat
X-WR-TIMEZONE:Europe/Madrid
DESCRIPTION:
URI:https://www.caldesdemontbui.cat/actualitat/agenda/festa-de-halloween-i-castanyada-a-can-regasol.html
CLASS:PUBLIC
END:VEVENT
END:VCALENDAR
