BEGIN:VCALENDAR
VERSION:2.0
CALSCALE:GREGORIAN
PRODID:-//Diputació de Barcelona//DibaCMS//EN
BEGIN:VEVENT
UID:4724
DTSTAMP:20260421T151254
DTSTART:20091028T090000
DTEND:20091028T000000
SUMMARY:Caminada fins El Gorg d'en Pèlags
LOCATION:
METHOD:PUBLISH
X-WR-CALNAME:caldesm@caldesdemontbui.cat
X-WR-TIMEZONE:Europe/Madrid
DESCRIPTION:
URI:https://www.caldesdemontbui.cat/actualitat/agenda/caminada-fins-el-gorg-den-pelags.html
CLASS:PUBLIC
END:VEVENT
END:VCALENDAR
